BEGIN:VCALENDAR
VERSION:2.0
PRODID:-//Circular Black Forest - ECPv6.15.20//NONSGML v1.0//EN
CALSCALE:GREGORIAN
METHOD:PUBLISH
X-ORIGINAL-URL:https://circular-blackforest.de
X-WR-CALDESC:Veranstaltungen für Circular Black Forest
REFRESH-INTERVAL;VALUE=DURATION:PT1H
X-Robots-Tag:noindex
X-PUBLISHED-TTL:PT1H
BEGIN:VTIMEZONE
TZID:Europe/Berlin
BEGIN:DAYLIGHT
TZOFFSETFROM:+0100
TZOFFSETTO:+0200
TZNAME:CEST
DTSTART:20250330T010000
END:DAYLIGHT
BEGIN:STANDARD
TZOFFSETFROM:+0200
TZOFFSETTO:+0100
TZNAME:CET
DTSTART:20251026T010000
END:STANDARD
BEGIN:DAYLIGHT
TZOFFSETFROM:+0100
TZOFFSETTO:+0200
TZNAME:CEST
DTSTART:20260329T010000
END:DAYLIGHT
BEGIN:STANDARD
TZOFFSETFROM:+0200
TZOFFSETTO:+0100
TZNAME:CET
DTSTART:20261025T010000
END:STANDARD
BEGIN:DAYLIGHT
TZOFFSETFROM:+0100
TZOFFSETTO:+0200
TZNAME:CEST
DTSTART:20270328T010000
END:DAYLIGHT
BEGIN:STANDARD
TZOFFSETFROM:+0200
TZOFFSETTO:+0100
TZNAME:CET
DTSTART:20271031T010000
END:STANDARD
END:VTIMEZONE
BEGIN:VEVENT
DTSTART;TZID=Europe/Berlin:20260319T100000
DTEND;TZID=Europe/Berlin:20260319T170000
DTSTAMP:20260422T160928
CREATED:20260130T191243Z
LAST-MODIFIED:20260130T191253Z
UID:3015-1773914400-1773939600@circular-blackforest.de
SUMMARY:Circular Länd: Community of Practice #6 Netzwerktreffen
DESCRIPTION:Community of Practice (CoP) Netzwerktreffen  \n\n\n\nIn der Community of Practice von Circular Länd bringst du dich regelmäßig in einen offenen Erfahrungsaustausch ein. Hier treffen sich Fach- und Führungskräfte aus unterschiedlichen Unternehmen\, um voneinander zu lernen\, Good Practices weiterzuentwickeln und konkrete Fragen aus der Praxis zu diskutieren. Der Fokus liegt auf dem kontinuierlichen Lernen im Unternehmenskontext: Welche Methoden haben sich bewährt\, wie lassen sich Hindernisse überwinden\, und welche Werkzeuge helfen in der Umsetzung?
URL:https://circular-blackforest.de/veranstaltungskalender/circular-laend-community-of-practice-6-netzwerktreffen/
ATTACH;FMTTYPE=image/jpeg:https://circular-blackforest.de/wp-content/uploads/2025/10/Circular-Laend.jpg
END:VEVENT
BEGIN:VEVENT
DTSTART;TZID=Europe/Berlin:20260325T083000
DTEND;TZID=Europe/Berlin:20260325T123000
DTSTAMP:20260422T160928
CREATED:20260225T105954Z
LAST-MODIFIED:20260225T110317Z
UID:3084-1774427400-1774441800@circular-blackforest.de
SUMMARY:Workshop: Von der Idee zum Geschäftsmodell in 4 Stunden
DESCRIPTION:Im Rahmen der Frühlingsakademie Nachhaltig am Karlsruher Institut für Technologie (KIT) lernst du in diesem Workshop\, die Prinzipien der Kreislaufwirtschaft praktisch anzuwenden und in ein zirkuläres Geschäftsmodell zu übersetzen – mit Spaß und Kreativität.  \n\n\n\nWas dich erwartet:– Überblick zu Startup-Programmen– Einführung in zirkuläre Prinzipien– Interaktive Design-Thinking-Übungen– Entwicklung eigener GeschäftsmodelleWeitere Informationen und zur Anmeldung für die Frühlingsakademie: hier
URL:https://circular-blackforest.de/veranstaltungskalender/workshop-von-der-idee-zum-geschaeftsmodell-in-4-stunden/
ATTACH;FMTTYPE=image/jpeg:https://circular-blackforest.de/wp-content/uploads/2026/02/260126_Teaser490_FN26_2_rdax_98s.jpg
END:VEVENT
BEGIN:VEVENT
DTSTART;TZID=Europe/Berlin:20260326T180000
DTEND;TZID=Europe/Berlin:20260326T193000
DTSTAMP:20260422T160928
CREATED:20260223T072515Z
LAST-MODIFIED:20260311T141118Z
UID:3065-1774548000-1774553400@circular-blackforest.de
SUMMARY:Podiumsdiskussion im Rahmen des Studium Generale zur “Nachhaltigen Kreislaufwirtschaft” am KIT
DESCRIPTION:Am 26. März 2026 lädt das Karlsruher Institut für Technologie (KIT) zur Podiumsdiskussion im Rahmen der Frühlingsakademie „Kreislaufwirtschaft: Wunschdenken oder Zukunft der Wertschöpfung?“ ein. Im Zentrum steht die Frage\, wie zirkuläre Wertschöpfung konkret umgesetzt werden kann – zwischen wissenschaftlicher Perspektive\, industrieller Praxis und regionaler Transformation. \n\n\n\nMit auf dem Podium diskutiert Anna Reiners und bringt die Erfahrungen und Impulse aus der Arbeit von Circular Black Forest in die Debatte ein. Die Veranstaltung ist öffentlich und richtet sich an alle\, die sich mit zirkulären Strategien und zukunftsfähigen Wirtschaftsmodellen befassen.Die Keynote\, das Forum Nachhaltigkeit und die Podiumsdiskussion sind öffentlich und können ohne Anmeldung besucht werden.Weitere Informationen hier.
URL:https://circular-blackforest.de/veranstaltungskalender/workshop-podiumsdiskussion-im-rahmen-des-studium-generale-zur-nachhaltigen-kreislaufwirtschaft-am-kit/
ATTACH;FMTTYPE=image/jpeg:https://circular-blackforest.de/wp-content/uploads/2026/02/260126_Teaser490_FN26_2_rdax_98s.jpg
END:VEVENT
END:VCALENDAR