BEGIN:VCALENDAR
VERSION:2.0
PRODID:-//Circular Black Forest - ECPv6.15.20//NONSGML v1.0//EN
CALSCALE:GREGORIAN
METHOD:PUBLISH
X-ORIGINAL-URL:https://circular-blackforest.de
X-WR-CALDESC:Veranstaltungen für Circular Black Forest
REFRESH-INTERVAL;VALUE=DURATION:PT1H
X-Robots-Tag:noindex
X-PUBLISHED-TTL:PT1H
BEGIN:VTIMEZONE
TZID:Europe/Berlin
BEGIN:DAYLIGHT
TZOFFSETFROM:+0100
TZOFFSETTO:+0200
TZNAME:CEST
DTSTART:20240331T010000
END:DAYLIGHT
BEGIN:STANDARD
TZOFFSETFROM:+0200
TZOFFSETTO:+0100
TZNAME:CET
DTSTART:20241027T010000
END:STANDARD
BEGIN:DAYLIGHT
TZOFFSETFROM:+0100
TZOFFSETTO:+0200
TZNAME:CEST
DTSTART:20250330T010000
END:DAYLIGHT
BEGIN:STANDARD
TZOFFSETFROM:+0200
TZOFFSETTO:+0100
TZNAME:CET
DTSTART:20251026T010000
END:STANDARD
BEGIN:DAYLIGHT
TZOFFSETFROM:+0100
TZOFFSETTO:+0200
TZNAME:CEST
DTSTART:20260329T010000
END:DAYLIGHT
BEGIN:STANDARD
TZOFFSETFROM:+0200
TZOFFSETTO:+0100
TZNAME:CET
DTSTART:20261025T010000
END:STANDARD
END:VTIMEZONE
BEGIN:VEVENT
DTSTART;TZID=Europe/Berlin:20251105T100000
DTEND;TZID=Europe/Berlin:20251105T120000
DTSTAMP:20260424T154334
CREATED:20250922T140905Z
LAST-MODIFIED:20250923T100817Z
UID:2772-1762336800-1762344000@circular-blackforest.de
SUMMARY:Kick-off "REGIONALE KUNSTSTOFF KREISLÄUFE schaffen und schließen"
DESCRIPTION:Gemeinsam regionale Kunststoffkreisläufe gestalten: zukunftsfähig\, kooperativ\, praxisnah \n\n\n\nDie Sicherung der Kunststoffversorgung\, steigende gesetzliche Vorgaben und der Wunsch nach mehr Unabhängigkeit von globalen Lieferketten stellen viele Unternehmen vor große Herausforderungen. Mit unserem durch das Ministerium für Umwelt\, Klima und Energiewirtschaft Baden-Württemberg geförderten Projekt “REGIONALE KUNSTSTOFF KREISLÄUFE schaffen und schießen” bringen wir diverse Akteure entlang des Kunststoff-Wertschöpfungssystems an einen Tisch. Beim Kick-off am 05. November von 10–12 Uhr (online via Microsoft Teams) erhalten Sie Einblicke in die regionalen Kunststoffströme und erfahren\, wo die größten Potenziale für zirkuläre Lösungen liegen. Gemeinsam entwickeln wir Ansätze für kreislauffähiges Design\, bessere Rezyklatqualität und regionale Kooperationen. Nutzen Sie die Gelegenheit\, sich zu vernetzen\, Lösungen mitzugestalten und Ihr Unternehmen fit für die Zukunft zu machen! \n\n\n\nDie wichtigsten Infos:\n\n\n\n⏳ Wann: Mittwoch\, 05. November 2025\, 10:00 – 12:00 Uhr 📍 Wo: Online via Microsoft Teams \n\n\n\n✌️ Mit dabei: Anna & Carina\, Dejan von Innonet Kunststoff und Magnus von Regioflow \n\n\n\nJetzt anmelden & mitgestalten\n\n\n\nWeitere Infos zum Projekt: https://circular-blackforest.de/projekte/kunststoffkreislauf-2/
URL:https://circular-blackforest.de/veranstaltungskalender/kick-off-regionale-kunststoff-kreislaeufe-schaffen-schliessen/
CATEGORIES:Virtuelles Event
ATTACH;FMTTYPE=image/jpeg:https://circular-blackforest.de/wp-content/uploads/2025/09/Kunststoffkreislaeufe-Event.jpg
END:VEVENT
BEGIN:VEVENT
DTSTART;TZID=Europe/Berlin:20251106T000000
DTEND;TZID=Europe/Berlin:20251106T235959
DTSTAMP:20260424T154334
CREATED:20251006T161515Z
LAST-MODIFIED:20251006T161548Z
UID:2794-1762387200-1762473599@circular-blackforest.de
SUMMARY:SUSTAINABILITY FORUM
DESCRIPTION:Gemeinsam nachhaltige Innovation schaffen\n\n\n\nDas Black Forest Sustainability Forum ist gemeinsam mit der Hochschule Offenburg die Plattform für nachhaltige Technologien in Süddeutschland. Hier wird gelernt\, diskutiert und kreiert. Und wir sind für euch gleich drei mal rund um das Thema „zirkuläre Kooperationen“ am Start: Mit einer inspirierenden Keynote\, einer spannenden Masterclass und dem Launch unserer neuen Plattform kreisläuft. \n\n\n\n1. Vortrag: Vom Ich zum Wir\n\n\n\nWir wissen: Circular Economy braucht mehr Kooperation. Trotzdem fehlt oft der Ort\, an dem sie wirklich passiert. Unser Vortrag macht sichtbar\, was bislang im Schatten bleibt: Wie eine Plattform den blinden Fleck schließt und neue Formen der Zusammenarbeit möglich macht. Diskutiere mit uns\, wie wir von einzelnen Best Practices zu einer gemeinsamen Zukunftsperspektive gelangen. \n\n\n\n2. Masterclass: Raus aus der Theorie\, rein in die Praxis\n\n\n\nProdukte zerlegen\, Potenziale sichtbar machen\, neue Allianzen schmieden: In dieser Masterclass gehen wir einen Schritt weiter. Statt über Kooperation zu sprechen\, probieren wir sie aus. Gemeinsam entdecken wir\, wo sich im Design\, in Prozessen und in Strukturen neue Chancen für die Circular Economy eröffnen. \n\n\n\n3. Launch unserer neuen Plattform kreisläuft\n\n\n\nWir reden nicht nur darüber\, wir machen´s einfach. kreisläuft bringt die Macher:innen der Circular Economy zusammen – sichtbar\, vernetzt\, ready to roll! \n\n\n\nDie wichtigsten Infos\n\n\n\n⏳ Wann: Donnerstag\, 6. November 2025\, 9:30 Uhr – 16:00 Uhr📍 Wo: flow1986\, Am alten Schlachthof 14\, 77652 Offenburg👉 Die Teilnahme ist kostenlos.  \n\n\n\nJetzt anmelden\n\n\n\n✌️ Mit dabei: Anna\, Yamel und Max
URL:https://circular-blackforest.de/veranstaltungskalender/sustainability-forum/
CATEGORIES:Events von Impact Partnern,Präsenzveranstaltung
ATTACH;FMTTYPE=image/jpeg:https://circular-blackforest.de/wp-content/uploads/2025/09/Sustainability-Forum.jpg
END:VEVENT
END:VCALENDAR