BEGIN:VCALENDAR
VERSION:2.0
PRODID:-//Circular Black Forest - ECPv6.15.20//NONSGML v1.0//EN
CALSCALE:GREGORIAN
METHOD:PUBLISH
X-WR-CALNAME:Circular Black Forest
X-ORIGINAL-URL:https://circular-blackforest.de
X-WR-CALDESC:Veranstaltungen für Circular Black Forest
REFRESH-INTERVAL;VALUE=DURATION:PT1H
X-Robots-Tag:noindex
X-PUBLISHED-TTL:PT1H
BEGIN:VTIMEZONE
TZID:Europe/Berlin
BEGIN:DAYLIGHT
TZOFFSETFROM:+0100
TZOFFSETTO:+0200
TZNAME:CEST
DTSTART:20250330T010000
END:DAYLIGHT
BEGIN:STANDARD
TZOFFSETFROM:+0200
TZOFFSETTO:+0100
TZNAME:CET
DTSTART:20251026T010000
END:STANDARD
BEGIN:DAYLIGHT
TZOFFSETFROM:+0100
TZOFFSETTO:+0200
TZNAME:CEST
DTSTART:20260329T010000
END:DAYLIGHT
BEGIN:STANDARD
TZOFFSETFROM:+0200
TZOFFSETTO:+0100
TZNAME:CET
DTSTART:20261025T010000
END:STANDARD
BEGIN:DAYLIGHT
TZOFFSETFROM:+0100
TZOFFSETTO:+0200
TZNAME:CEST
DTSTART:20270328T010000
END:DAYLIGHT
BEGIN:STANDARD
TZOFFSETFROM:+0200
TZOFFSETTO:+0100
TZNAME:CET
DTSTART:20271031T010000
END:STANDARD
END:VTIMEZONE
BEGIN:VEVENT
DTSTART;TZID=Europe/Berlin:20260424T093000
DTEND;TZID=Europe/Berlin:20260424T123000
DTSTAMP:20260419T141056
CREATED:20260225T132810Z
LAST-MODIFIED:20260225T132818Z
UID:3089-1777023000-1777033800@circular-blackforest.de
SUMMARY:Full Circle Basel: Deep Dive "Von der Idee zum zirkulären Geschäftsmodell"
DESCRIPTION:Wie lassen sich Prinzipien der Kreislaufwirtschaft praktisch anwenden und in ein zirkuläres Geschäftsmodell übersetzen? Der Workshop richtet sich an alle\, die ihre Ideen voranbringen wollen – mit Spass und Kreativität. Nach einer Einführung in zirkuläre Prinzipien folgen interaktive Design-Thinking-Übungen und das Skizzieren neuer Geschäftsmodelle. Zum Abschluss geben die Leiterinnen einen Überblick über aktuelle Start-up-Programme zur Kreislaufwirtschaft. \n\n\n\nLeitung:– Max Schwendemann\, Circular Ecosystem Builder\, Circular Black Forest– Anja Nieveler\, Wissenschaftliche Mitarbeiterin\, Institut für Unternehmensführung\, Hochschule für Wirtschaft FHNW und Expertin für zirkuläre GeschäftsmodelleWeitere Infos und zur Anmeldung: hier
URL:https://circular-blackforest.de/veranstaltungskalender/full-circle-basel-deep-dive-von-der-idee-zum-zirkulaeren-geschaeftsmodell/
ATTACH;FMTTYPE=image/jpeg:https://circular-blackforest.de/wp-content/uploads/2026/02/Full-Circle-Basel.jpeg
END:VEVENT
END:VCALENDAR