BEGIN:VCALENDAR
VERSION:2.0
PRODID:-//Circular Black Forest - ECPv6.15.20//NONSGML v1.0//EN
CALSCALE:GREGORIAN
METHOD:PUBLISH
X-WR-CALNAME:Circular Black Forest
X-ORIGINAL-URL:https://circular-blackforest.de
X-WR-CALDESC:Veranstaltungen für Circular Black Forest
REFRESH-INTERVAL;VALUE=DURATION:PT1H
X-Robots-Tag:noindex
X-PUBLISHED-TTL:PT1H
BEGIN:VTIMEZONE
TZID:Europe/Berlin
BEGIN:DAYLIGHT
TZOFFSETFROM:+0100
TZOFFSETTO:+0200
TZNAME:CEST
DTSTART:20250330T010000
END:DAYLIGHT
BEGIN:STANDARD
TZOFFSETFROM:+0200
TZOFFSETTO:+0100
TZNAME:CET
DTSTART:20251026T010000
END:STANDARD
BEGIN:DAYLIGHT
TZOFFSETFROM:+0100
TZOFFSETTO:+0200
TZNAME:CEST
DTSTART:20260329T010000
END:DAYLIGHT
BEGIN:STANDARD
TZOFFSETFROM:+0200
TZOFFSETTO:+0100
TZNAME:CET
DTSTART:20261025T010000
END:STANDARD
BEGIN:DAYLIGHT
TZOFFSETFROM:+0100
TZOFFSETTO:+0200
TZNAME:CEST
DTSTART:20270328T010000
END:DAYLIGHT
BEGIN:STANDARD
TZOFFSETFROM:+0200
TZOFFSETTO:+0100
TZNAME:CET
DTSTART:20271031T010000
END:STANDARD
END:VTIMEZONE
BEGIN:VEVENT
DTSTART;TZID=Europe/Berlin:20260325T083000
DTEND;TZID=Europe/Berlin:20260325T123000
DTSTAMP:20260422T180430
CREATED:20260225T105954Z
LAST-MODIFIED:20260225T110317Z
UID:3084-1774427400-1774441800@circular-blackforest.de
SUMMARY:Workshop: Von der Idee zum Geschäftsmodell in 4 Stunden
DESCRIPTION:Im Rahmen der Frühlingsakademie Nachhaltig am Karlsruher Institut für Technologie (KIT) lernst du in diesem Workshop\, die Prinzipien der Kreislaufwirtschaft praktisch anzuwenden und in ein zirkuläres Geschäftsmodell zu übersetzen – mit Spaß und Kreativität.  \n\n\n\nWas dich erwartet:– Überblick zu Startup-Programmen– Einführung in zirkuläre Prinzipien– Interaktive Design-Thinking-Übungen– Entwicklung eigener GeschäftsmodelleWeitere Informationen und zur Anmeldung für die Frühlingsakademie: hier
URL:https://circular-blackforest.de/veranstaltungskalender/workshop-von-der-idee-zum-geschaeftsmodell-in-4-stunden/
ATTACH;FMTTYPE=image/jpeg:https://circular-blackforest.de/wp-content/uploads/2026/02/260126_Teaser490_FN26_2_rdax_98s.jpg
END:VEVENT
END:VCALENDAR