BEGIN:VCALENDAR
VERSION:2.0
PRODID:-//Circular Black Forest - ECPv6.15.20//NONSGML v1.0//EN
CALSCALE:GREGORIAN
METHOD:PUBLISH
X-ORIGINAL-URL:https://circular-blackforest.de
X-WR-CALDESC:Veranstaltungen für Circular Black Forest
REFRESH-INTERVAL;VALUE=DURATION:PT1H
X-Robots-Tag:noindex
X-PUBLISHED-TTL:PT1H
BEGIN:VTIMEZONE
TZID:Europe/Berlin
BEGIN:DAYLIGHT
TZOFFSETFROM:+0100
TZOFFSETTO:+0200
TZNAME:CEST
DTSTART:20250330T010000
END:DAYLIGHT
BEGIN:STANDARD
TZOFFSETFROM:+0200
TZOFFSETTO:+0100
TZNAME:CET
DTSTART:20251026T010000
END:STANDARD
BEGIN:DAYLIGHT
TZOFFSETFROM:+0100
TZOFFSETTO:+0200
TZNAME:CEST
DTSTART:20260329T010000
END:DAYLIGHT
BEGIN:STANDARD
TZOFFSETFROM:+0200
TZOFFSETTO:+0100
TZNAME:CET
DTSTART:20261025T010000
END:STANDARD
BEGIN:DAYLIGHT
TZOFFSETFROM:+0100
TZOFFSETTO:+0200
TZNAME:CEST
DTSTART:20270328T010000
END:DAYLIGHT
BEGIN:STANDARD
TZOFFSETFROM:+0200
TZOFFSETTO:+0100
TZNAME:CET
DTSTART:20271031T010000
END:STANDARD
END:VTIMEZONE
BEGIN:VEVENT
DTSTART;TZID=Europe/Berlin:20260211T110000
DTEND;TZID=Europe/Berlin:20260211T130000
DTSTAMP:20260422T201205
CREATED:20260130T180020Z
LAST-MODIFIED:20260130T180031Z
UID:3008-1770807600-1770814800@circular-blackforest.de
SUMMARY:Regionale Kunststoffkreisläufe – Solution Circles
DESCRIPTION:Transparente Stoffströme im Schwarzwald: den Kunststoffkreislauf gemeinsam gestalten \n\n\n\nDer Schwarzwald hat alle Voraussetzungen\, um Kunststoffkreisläufe regional aufzubauen: starke Industrie\, exzellente Verarbeitungskompetenz\, kurze Wege und engagierte Akteure.Was fehlt? Eine gemeinsame Datenbasis\, die sichtbar macht\, \n\n\n\n\nwer welche Rest- oder Rezyklatmengen hat\,\n\n\n\nwelche Qualitäten verfügbar sind\,\n\n\n\nwelche Bedarfe es gibt und wo Kooperationen wirtschaftlich sinnvoll werden.\n\n\n\n\nGenau hier setzt der Solution Circle an.Über ca. 6 Sessions (Jan–März 2026) entwickeln wir ein tragfähiges Konzept – idealerweise einen ersten Prototypen\, der Unternehmen ermöglicht: \n\n\n\n\nvorhandene Kunststoff-Reststoffe und Rezyklate sichtbar zu machen\n\n\n\nBedarfe und Qualitäten transparent zu teilen\n\n\n\nSynergien zu erkennen (Volumina\, Prozesse\, Infrastruktur)\n\n\n\nden Grundstein für wirtschaftlich sinnvolle\, regionale Kreisläufe zu legen\n\n\n\n\nDer Solution Circle ist ein offener\, agiler Innovationsprozess – methodisch angelehnt an Design Thinking und zirkuläre Innovationsansätze.Ihr werdet nicht nur Lösungen erarbeiten – sondern auch auf dem Weg lernen\, wie man Innovation systematisch gestaltet. \n\n\n\n\n\n\n\nTermine Solution Circle\n\n\n\n28.01.2026 | 11.00 – 13.00 | OnlineBedarfe\, Anreize & Profile 11.02.2026 | 11.00 – 13.00 | OnlineArchitektur & Matching24.02.2026 | 11.00 – 13.00 | OnlineDaten\, Vertrauen & Skalierbarkeit11.03.2026 | 11.00 – 13.00 | OnlineImpact\, Business Case & Ökonomie25.03.2026 | Ganztags | PräsenzPrototyp\, Rollen & Nächste SchritteFür wen ist der Solution Circle geeignet? \n\n\n\n👉 Kunststoffverarbeiter & -hersteller👉 Recycler & Aufbereiter👉 Maschinen- & Anlagenbauer👉 Materialwissenschaft & Forschung👉 Ingenieurbüros\, Produktentwicklung & Design👉 Cluster\, Netzwerke\, Hochschulen & Institutionen👉 Brands & Anwender mit Kunststoffbedarf \n\n\n\nKurz gesagt: Alle\, die den regionalen Kunststoffkreislauf im Schwarzwald mitgestalten wollen. \n\n\n\nWarum solltest du dabei sein?\n\n\n\n\nDu erarbeitest Lösungen gemeinsam mit Akteuren\, die „wirklich etwas bewegen können“ – nicht im Elfenbeinturm.\n\n\n\nDu erhältst Zugang zu neuem Wissen\, Methoden & Netzwerk.\n\n\n\nDu kannst deine Herausforderungen einbringen – und bekommst Antworten aus dem Ökosystem.\n\n\n\nDu formst aktiv die Grundlage für regionale\, klimawirksame Wertschöpfung.\n\n\n\n\nMelde dich jetzt an und werde Teil des Solution Circle Schwarzwald.Direkt per Mail bei Carina Wanninger: carina@circular-blackforest.deGemeinsam schaffen wir Transparenz.Gemeinsam schaffen wir Kreisläufe.#CircularBlackForest
URL:https://circular-blackforest.de/veranstaltungskalender/regionale-kunststoffkreislaeufe-solution-circles/
ATTACH;FMTTYPE=image/png:https://circular-blackforest.de/wp-content/uploads/2026/01/Kunststoffkreislaeufe-Solution-Circle.png
END:VEVENT
END:VCALENDAR